BEGIN:VCALENDAR
VERSION:2.0
PRODID:-//Rader Family Farms - ECPv6.15.20//NONSGML v1.0//EN
CALSCALE:GREGORIAN
METHOD:PUBLISH
X-WR-CALNAME:Rader Family Farms
X-ORIGINAL-URL:https://raderfamilyfarms.com
X-WR-CALDESC:Events for Rader Family Farms
REFRESH-INTERVAL;VALUE=DURATION:PT1H
X-Robots-Tag:noindex
X-PUBLISHED-TTL:PT1H
BEGIN:VTIMEZONE
TZID:America/Chicago
BEGIN:DAYLIGHT
TZOFFSETFROM:-0600
TZOFFSETTO:-0500
TZNAME:CDT
DTSTART:20240310T080000
END:DAYLIGHT
BEGIN:STANDARD
TZOFFSETFROM:-0500
TZOFFSETTO:-0600
TZNAME:CST
DTSTART:20241103T070000
END:STANDARD
BEGIN:DAYLIGHT
TZOFFSETFROM:-0600
TZOFFSETTO:-0500
TZNAME:CDT
DTSTART:20250309T080000
END:DAYLIGHT
BEGIN:STANDARD
TZOFFSETFROM:-0500
TZOFFSETTO:-0600
TZNAME:CST
DTSTART:20251102T070000
END:STANDARD
BEGIN:DAYLIGHT
TZOFFSETFROM:-0600
TZOFFSETTO:-0500
TZNAME:CDT
DTSTART:20260308T080000
END:DAYLIGHT
BEGIN:STANDARD
TZOFFSETFROM:-0500
TZOFFSETTO:-0600
TZNAME:CST
DTSTART:20261101T070000
END:STANDARD
END:VTIMEZONE
BEGIN:VEVENT
DTSTART;TZID=America/Chicago:20250622T000000
DTEND;TZID=America/Chicago:20250915T000000
DTSTAMP:20260420T012909
CREATED:20250621T225705Z
LAST-MODIFIED:20250909T172014Z
UID:10001266-1750550400-1757894400@raderfamilyfarms.com
SUMMARY:2025 Early Bird Fall Season Pass Sale!!
DESCRIPTION:This individual pass offers a fantastic savings and will allow you to come visit us as many days as you’d like during our fall season!  You are also invited to the Season Passholder Preview at the Eat Stay & Play event on Friday\, September 12th from 4 pm – 7 pm.  Bring your other family members who may not be passholders for an additional $7. \nhttps://rff.ticketspice.com/2025-fall-season-pass \nIt takes only 3 visits and your pass has paid for itself!  Early Bird Sale ends at 6pm Sunday\, September 14\, 2025. \nRegularly priced Fall Season passes will be available for purchase from September 15 – November 1 at the regular individual rate (4 years – 64 years) of $70. \nCan’t wait to harvest memories with you!
URL:https://raderfamilyfarms.com/event/2025-early-bird-fall-season-pass-sale/
LOCATION:Rader Family Farms\, 1312 Ropp Road\, Normal\, Illinois\, 61761
ATTACH;FMTTYPE=image/jpeg:https://raderfamilyfarms.com/wp-content/uploads/2024/05/SeasonPass03-1.jpg
GEO:40.524176;-89.041358
X-APPLE-STRUCTURED-LOCATION;VALUE=URI;X-ADDRESS=Rader Family Farms 1312 Ropp Road Normal Illinois 61761;X-APPLE-RADIUS=500;X-TITLE=1312 Ropp Road:geo:-89.041358,40.524176
END:VEVENT
END:VCALENDAR