BEGIN:VCALENDAR
VERSION:2.0
PRODID:-//Rader Family Farms - ECPv6.15.20//NONSGML v1.0//EN
CALSCALE:GREGORIAN
METHOD:PUBLISH
X-WR-CALNAME:Rader Family Farms
X-ORIGINAL-URL:https://raderfamilyfarms.com
X-WR-CALDESC:Events for Rader Family Farms
REFRESH-INTERVAL;VALUE=DURATION:PT1H
X-Robots-Tag:noindex
X-PUBLISHED-TTL:PT1H
BEGIN:VTIMEZONE
TZID:America/Chicago
BEGIN:DAYLIGHT
TZOFFSETFROM:-0600
TZOFFSETTO:-0500
TZNAME:CDT
DTSTART:20240310T080000
END:DAYLIGHT
BEGIN:STANDARD
TZOFFSETFROM:-0500
TZOFFSETTO:-0600
TZNAME:CST
DTSTART:20241103T070000
END:STANDARD
BEGIN:DAYLIGHT
TZOFFSETFROM:-0600
TZOFFSETTO:-0500
TZNAME:CDT
DTSTART:20250309T080000
END:DAYLIGHT
BEGIN:STANDARD
TZOFFSETFROM:-0500
TZOFFSETTO:-0600
TZNAME:CST
DTSTART:20251102T070000
END:STANDARD
BEGIN:DAYLIGHT
TZOFFSETFROM:-0600
TZOFFSETTO:-0500
TZNAME:CDT
DTSTART:20260308T080000
END:DAYLIGHT
BEGIN:STANDARD
TZOFFSETFROM:-0500
TZOFFSETTO:-0600
TZNAME:CST
DTSTART:20261101T070000
END:STANDARD
END:VTIMEZONE
BEGIN:VEVENT
DTSTART;TZID=America/Chicago:20251213T083000
DTEND;TZID=America/Chicago:20251213T233000
DTSTAMP:20260419T161855
CREATED:20251119T154112Z
LAST-MODIFIED:20251210T043302Z
UID:10001418-1765614600-1765668600@raderfamilyfarms.com
SUMMARY:Breakfast With Santa
DESCRIPTION: Breakfast with Santa at Rader Family Farms \nEnjoy a delicious breakfast in our beautiful Orchard Barn. Each guest will have the chance for a personal visit and photo with Santa Claus — a keepsake for the whole family. (Bring your camera or purchase a photography session at: https://www.cognitoforms.com/RaderFamilyFarms/_2025PhotographyPackageForBreakfastWithSanta \nSpace is limited for each seating\, so reserve your spot early and kick off the Christmas season! \nhttps://www.cognitoforms.com/RaderFamilyFarms/BreakfastWithSanta \nBreakfast Seatings: \n 8:30 AM \n 10:30 AM \nTickets: \n\nGuests $25 (Ages 3yrs+)\nKids under 2 are FREE\, but must have a ticket!\nTICKETS ARE REQUIRED FOR ALL GUESTS. Please purchase tickets for your preferred seating time. Guests will only be served during their reserved time slot and cannot be seated or served earlier.\n\nWhat’s Included: \n Pancakes\, sausage\, Biscuits & Gravy\, fruit\, Signature Donut \n Hot Chocolate\, Hot/Cold Cider\, Coffee\, Water \n Visit & photo with Santa Claus (Bring Your Own Camera) or purchase a photography package: https://www.cognitoforms.com/RaderFamilyFarms/_2025PhotographyPackageForBreakfastWithSanta \nTickets will not be available at the door.
URL:https://raderfamilyfarms.com/event/breakfast-with-santa-2/
LOCATION:Rader Family Farms\, 1312 Ropp Road\, Normal\, Illinois\, 61761
CATEGORIES:Open
ATTACH;FMTTYPE=image/jpeg:https://raderfamilyfarms.com/wp-content/uploads/2025/11/Breakfast-with-Santa.jpg
GEO:40.524176;-89.041358
X-APPLE-STRUCTURED-LOCATION;VALUE=URI;X-ADDRESS=Rader Family Farms 1312 Ropp Road Normal Illinois 61761;X-APPLE-RADIUS=500;X-TITLE=1312 Ropp Road:geo:-89.041358,40.524176
END:VEVENT
END:VCALENDAR