BEGIN:VCALENDAR
VERSION:2.0
PRODID:-//Rader Family Farms - ECPv6.15.20//NONSGML v1.0//EN
CALSCALE:GREGORIAN
METHOD:PUBLISH
X-ORIGINAL-URL:https://raderfamilyfarms.com
X-WR-CALDESC:Events for Rader Family Farms
REFRESH-INTERVAL;VALUE=DURATION:PT1H
X-Robots-Tag:noindex
X-PUBLISHED-TTL:PT1H
BEGIN:VTIMEZONE
TZID:America/Chicago
BEGIN:DAYLIGHT
TZOFFSETFROM:-0600
TZOFFSETTO:-0500
TZNAME:CDT
DTSTART:20240310T080000
END:DAYLIGHT
BEGIN:STANDARD
TZOFFSETFROM:-0500
TZOFFSETTO:-0600
TZNAME:CST
DTSTART:20241103T070000
END:STANDARD
BEGIN:DAYLIGHT
TZOFFSETFROM:-0600
TZOFFSETTO:-0500
TZNAME:CDT
DTSTART:20250309T080000
END:DAYLIGHT
BEGIN:STANDARD
TZOFFSETFROM:-0500
TZOFFSETTO:-0600
TZNAME:CST
DTSTART:20251102T070000
END:STANDARD
BEGIN:DAYLIGHT
TZOFFSETFROM:-0600
TZOFFSETTO:-0500
TZNAME:CDT
DTSTART:20260308T080000
END:DAYLIGHT
BEGIN:STANDARD
TZOFFSETFROM:-0500
TZOFFSETTO:-0600
TZNAME:CST
DTSTART:20261101T070000
END:STANDARD
END:VTIMEZONE
BEGIN:VEVENT
DTSTART;TZID=America/Chicago:20250912T160000
DTEND;TZID=America/Chicago:20250912T190000
DTSTAMP:20260420T003045
CREATED:20250221T154224Z
LAST-MODIFIED:20250825T032924Z
UID:10001244-1757692800-1757703600@raderfamilyfarms.com
SUMMARY:Season Passholder - Eat\, Stay & Play
DESCRIPTION:
URL:https://raderfamilyfarms.com/event/season-passholder-eat-stay-play-2/
LOCATION:Rader Family Farms\, 1312 Ropp Road\, Normal\, Illinois\, 61761
CATEGORIES:Open
ATTACH;FMTTYPE=image/jpeg:https://raderfamilyfarms.com/wp-content/uploads/2025/02/IMG_6993.jpg
GEO:40.524176;-89.041358
X-APPLE-STRUCTURED-LOCATION;VALUE=URI;X-ADDRESS=Rader Family Farms 1312 Ropp Road Normal Illinois 61761;X-APPLE-RADIUS=500;X-TITLE=1312 Ropp Road:geo:-89.041358,40.524176
END:VEVENT
BEGIN:VEVENT
DTSTART;TZID=America/Chicago:20250913T100000
DTEND;TZID=America/Chicago:20250913T180000
DTSTAMP:20260420T003045
CREATED:20241020T213049Z
LAST-MODIFIED:20251022T015643Z
UID:10001287-1757757600-1757786400@raderfamilyfarms.com
SUMMARY:Outdoor Activities Daily Status
DESCRIPTION:
URL:https://raderfamilyfarms.com/event/outdoor-activities-2025/2025-09-13/
LOCATION:Illinois
CATEGORIES:Open
ATTACH;FMTTYPE=image/png:https://raderfamilyfarms.com/wp-content/uploads/2023/05/Outdoor-Activities-Daily-Status.png
END:VEVENT
BEGIN:VEVENT
DTSTART;TZID=America/Chicago:20250913T100000
DTEND;TZID=America/Chicago:20250913T180000
DTSTAMP:20260420T003045
CREATED:20250221T152850Z
LAST-MODIFIED:20250909T190808Z
UID:10001243-1757757600-1757786400@raderfamilyfarms.com
SUMMARY:2025 Fall Season OPENING DAY!
DESCRIPTION:
URL:https://raderfamilyfarms.com/event/2025-fall-season-opening-day/
LOCATION:Rader Family Farms\, 1312 Ropp Road\, Normal\, Illinois\, 61761
CATEGORIES:Open
ATTACH;FMTTYPE=image/jpeg:https://raderfamilyfarms.com/wp-content/uploads/2025/02/rff-opening-day-event.jpg
GEO:40.524176;-89.041358
X-APPLE-STRUCTURED-LOCATION;VALUE=URI;X-ADDRESS=Rader Family Farms 1312 Ropp Road Normal Illinois 61761;X-APPLE-RADIUS=500;X-TITLE=1312 Ropp Road:geo:-89.041358,40.524176
END:VEVENT
BEGIN:VEVENT
DTSTART;TZID=America/Chicago:20250913T100000
DTEND;TZID=America/Chicago:20250913T180000
DTSTAMP:20260420T003045
CREATED:20250909T223611Z
LAST-MODIFIED:20251022T015418Z
UID:10000571-1757757600-1757786400@raderfamilyfarms.com
SUMMARY:Corn Maze Daily Status
DESCRIPTION:
URL:https://raderfamilyfarms.com/event/corn-maze-daily-2025/2025-09-13/
LOCATION:Illinois
CATEGORIES:Open
ATTACH;FMTTYPE=image/png:https://raderfamilyfarms.com/wp-content/uploads/2023/05/corn-maze-calendar-status.png
END:VEVENT
BEGIN:VEVENT
DTSTART;TZID=America/Chicago:20250913T100000
DTEND;TZID=America/Chicago:20250913T180000
DTSTAMP:20260420T003045
CREATED:20250910T031128Z
LAST-MODIFIED:20250912T164052Z
UID:10000734-1757757600-1757786400@raderfamilyfarms.com
SUMMARY:Pumpkin Barn Daily Status
DESCRIPTION:
URL:https://raderfamilyfarms.com/event/pumpkin-barn-daily-status-2025/2025-09-13/
LOCATION:Illinois
CATEGORIES:Open
ATTACH;FMTTYPE=image/jpeg:https://raderfamilyfarms.com/wp-content/uploads/2024/09/pumpkin-barn-icon.jpg
END:VEVENT
BEGIN:VEVENT
DTSTART;TZID=America/Chicago:20250914T100000
DTEND;TZID=America/Chicago:20250914T180000
DTSTAMP:20260420T003045
CREATED:20241020T213049Z
LAST-MODIFIED:20251022T015643Z
UID:10001288-1757844000-1757872800@raderfamilyfarms.com
SUMMARY:Outdoor Activities Daily Status
DESCRIPTION:
URL:https://raderfamilyfarms.com/event/outdoor-activities-2025/2025-09-14/
LOCATION:Illinois
CATEGORIES:Open
ATTACH;FMTTYPE=image/png:https://raderfamilyfarms.com/wp-content/uploads/2023/05/Outdoor-Activities-Daily-Status.png
END:VEVENT
BEGIN:VEVENT
DTSTART;TZID=America/Chicago:20250914T100000
DTEND;TZID=America/Chicago:20250914T180000
DTSTAMP:20260420T003045
CREATED:20250221T154728Z
LAST-MODIFIED:20250913T025426Z
UID:10001245-1757844000-1757872800@raderfamilyfarms.com
SUMMARY:Grandparents Day at Rader Family Farms
DESCRIPTION:
URL:https://raderfamilyfarms.com/event/grandparents-day-at-rader-family-farms/
LOCATION:Rader Family Farms\, 1312 Ropp Road\, Normal\, Illinois\, 61761
CATEGORIES:Open
ATTACH;FMTTYPE=image/jpeg:https://raderfamilyfarms.com/wp-content/uploads/2025/02/IMG_2295-1.jpg
GEO:40.524176;-89.041358
X-APPLE-STRUCTURED-LOCATION;VALUE=URI;X-ADDRESS=Rader Family Farms 1312 Ropp Road Normal Illinois 61761;X-APPLE-RADIUS=500;X-TITLE=1312 Ropp Road:geo:-89.041358,40.524176
END:VEVENT
BEGIN:VEVENT
DTSTART;TZID=America/Chicago:20250914T100000
DTEND;TZID=America/Chicago:20250914T180000
DTSTAMP:20260420T003045
CREATED:20250909T223611Z
LAST-MODIFIED:20251022T015418Z
UID:10001338-1757844000-1757872800@raderfamilyfarms.com
SUMMARY:Corn Maze Daily Status
DESCRIPTION:
URL:https://raderfamilyfarms.com/event/corn-maze-daily-2025/2025-09-14/
LOCATION:Illinois
CATEGORIES:Open
ATTACH;FMTTYPE=image/png:https://raderfamilyfarms.com/wp-content/uploads/2023/05/corn-maze-calendar-status.png
END:VEVENT
BEGIN:VEVENT
DTSTART;TZID=America/Chicago:20250914T100000
DTEND;TZID=America/Chicago:20250914T180000
DTSTAMP:20260420T003045
CREATED:20250910T031128Z
LAST-MODIFIED:20250912T164052Z
UID:10001375-1757844000-1757872800@raderfamilyfarms.com
SUMMARY:Pumpkin Barn Daily Status
DESCRIPTION:
URL:https://raderfamilyfarms.com/event/pumpkin-barn-daily-status-2025/2025-09-14/
LOCATION:Illinois
CATEGORIES:Open
ATTACH;FMTTYPE=image/jpeg:https://raderfamilyfarms.com/wp-content/uploads/2024/09/pumpkin-barn-icon.jpg
END:VEVENT
END:VCALENDAR