BEGIN:VCALENDAR
VERSION:2.0
PRODID:-//Rader Family Farms - ECPv6.15.20//NONSGML v1.0//EN
CALSCALE:GREGORIAN
METHOD:PUBLISH
X-ORIGINAL-URL:https://raderfamilyfarms.com
X-WR-CALDESC:Events for Rader Family Farms
REFRESH-INTERVAL;VALUE=DURATION:PT1H
X-Robots-Tag:noindex
X-PUBLISHED-TTL:PT1H
BEGIN:VTIMEZONE
TZID:America/Chicago
BEGIN:DAYLIGHT
TZOFFSETFROM:-0600
TZOFFSETTO:-0500
TZNAME:CDT
DTSTART:20230312T080000
END:DAYLIGHT
BEGIN:STANDARD
TZOFFSETFROM:-0500
TZOFFSETTO:-0600
TZNAME:CST
DTSTART:20231105T070000
END:STANDARD
BEGIN:DAYLIGHT
TZOFFSETFROM:-0600
TZOFFSETTO:-0500
TZNAME:CDT
DTSTART:20240310T080000
END:DAYLIGHT
BEGIN:STANDARD
TZOFFSETFROM:-0500
TZOFFSETTO:-0600
TZNAME:CST
DTSTART:20241103T070000
END:STANDARD
BEGIN:DAYLIGHT
TZOFFSETFROM:-0600
TZOFFSETTO:-0500
TZNAME:CDT
DTSTART:20250309T080000
END:DAYLIGHT
BEGIN:STANDARD
TZOFFSETFROM:-0500
TZOFFSETTO:-0600
TZNAME:CST
DTSTART:20251102T070000
END:STANDARD
END:VTIMEZONE
BEGIN:VEVENT
DTSTART;TZID=America/Chicago:20240530T150000
DTEND;TZID=America/Chicago:20240530T180000
DTSTAMP:20260422T210559
CREATED:20230425T181447Z
LAST-MODIFIED:20240522T125239Z
UID:10000504-1717081200-1717092000@raderfamilyfarms.com
SUMMARY:Porch Party (Day 1)
DESCRIPTION:We’re rolling out the red carpet for two days of non-stop shopping fun. Sip on refreshing mocktail beverages\, sample delicious treats\, and enjoy special discounts and promotions as you explore our curated collection of products chosen just for you at Rader Family Farms. \nBe the first to see what’s in store with exclusive sneak peeks of new products and vendors. With each visit\, you’ll uncover hidden gems and must-have items that you won’t find anywhere else.\nDon’t miss your chance to gather\, shop\, and repeat at our unique shopping event. Join us Thursday from 3 p.m. to 6 p.m. and Saturday from 11 a.m. to 3 p.m.
URL:https://raderfamilyfarms.com/event/2024-porch-party-d1/
LOCATION:Rader Family Farms\, 1312 Ropp Road\, Normal\, Illinois\, 61761
CATEGORIES:Open
ATTACH;FMTTYPE=image/jpeg:https://raderfamilyfarms.com/wp-content/uploads/2023/04/rff_porch_party.jpeg
GEO:40.524176;-89.041358
X-APPLE-STRUCTURED-LOCATION;VALUE=URI;X-ADDRESS=Rader Family Farms 1312 Ropp Road Normal Illinois 61761;X-APPLE-RADIUS=500;X-TITLE=1312 Ropp Road:geo:-89.041358,40.524176
END:VEVENT
BEGIN:VEVENT
DTSTART;TZID=America/Chicago:20240601T110000
DTEND;TZID=America/Chicago:20240601T150000
DTSTAMP:20260422T210559
CREATED:20240423T220331Z
LAST-MODIFIED:20240531T160903Z
UID:10000506-1717239600-1717254000@raderfamilyfarms.com
SUMMARY:Porch Party (Day 2)
DESCRIPTION:It’s the final day of non-stop shopping fun. Sip on refreshing mocktail beverages\, sample delicious treats\, and enjoy special discounts and promotions as you explore our curated collection of products chosen just for you at Rader Family Farms. \nBe the first to see what’s in store with exclusive sneak peeks of new products and vendors. With each visit\, you’ll uncover hidden gems and must-have items that you won’t find anywhere else.\nDon’t miss your chance to gather\, shop\, and repeat at our unique shopping event. Join us Thursday from 3pm – 6pm and Saturday from 11am – 3pm.
URL:https://raderfamilyfarms.com/event/2024-porch-party-d2/
LOCATION:Illinois
CATEGORIES:Open
ATTACH;FMTTYPE=image/jpeg:https://raderfamilyfarms.com/wp-content/uploads/2023/04/rff_porch_party.jpeg
END:VEVENT
END:VCALENDAR