BEGIN:VCALENDAR
VERSION:2.0
PRODID:-//Rader Family Farms - ECPv6.15.20//NONSGML v1.0//EN
CALSCALE:GREGORIAN
METHOD:PUBLISH
X-ORIGINAL-URL:https://raderfamilyfarms.com
X-WR-CALDESC:Events for Rader Family Farms
REFRESH-INTERVAL;VALUE=DURATION:PT1H
X-Robots-Tag:noindex
X-PUBLISHED-TTL:PT1H
BEGIN:VTIMEZONE
TZID:America/Chicago
BEGIN:DAYLIGHT
TZOFFSETFROM:-0600
TZOFFSETTO:-0500
TZNAME:CDT
DTSTART:20240310T080000
END:DAYLIGHT
BEGIN:STANDARD
TZOFFSETFROM:-0500
TZOFFSETTO:-0600
TZNAME:CST
DTSTART:20241103T070000
END:STANDARD
BEGIN:DAYLIGHT
TZOFFSETFROM:-0600
TZOFFSETTO:-0500
TZNAME:CDT
DTSTART:20250309T080000
END:DAYLIGHT
BEGIN:STANDARD
TZOFFSETFROM:-0500
TZOFFSETTO:-0600
TZNAME:CST
DTSTART:20251102T070000
END:STANDARD
BEGIN:DAYLIGHT
TZOFFSETFROM:-0600
TZOFFSETTO:-0500
TZNAME:CDT
DTSTART:20260308T080000
END:DAYLIGHT
BEGIN:STANDARD
TZOFFSETFROM:-0500
TZOFFSETTO:-0600
TZNAME:CST
DTSTART:20261101T070000
END:STANDARD
END:VTIMEZONE
BEGIN:VEVENT
DTSTART;TZID=America/Chicago:20250607T073000
DTEND;TZID=America/Chicago:20250607T120000
DTSTAMP:20260419T224317
CREATED:20250504T041825Z
LAST-MODIFIED:20250504T041825Z
UID:10001259-1749281400-1749297600@raderfamilyfarms.com
SUMMARY:Downtown Bloomington Farmer's Market
DESCRIPTION:
URL:https://raderfamilyfarms.com/event/downtown-bloomington-farmers-market-7/
LOCATION:Downtown Bloomington Farmer’s Market\, 200 N. Main St.\, Bloomington\, IL\, 61701\, United States
CATEGORIES:Open
ATTACH;FMTTYPE=image/jpeg:https://raderfamilyfarms.com/wp-content/uploads/2025/01/IMG_7559.jpg
GEO:40.6069322;-88.9896981
X-APPLE-STRUCTURED-LOCATION;VALUE=URI;X-ADDRESS=Downtown Bloomington Farmer’s Market 200 N. Main St. Bloomington IL 61701 United States;X-APPLE-RADIUS=500;X-TITLE=200 N. Main St.:geo:-88.9896981,40.6069322
END:VEVENT
END:VCALENDAR