BEGIN:VCALENDAR
VERSION:2.0
PRODID:-//Rader Family Farms - ECPv6.15.20//NONSGML v1.0//EN
CALSCALE:GREGORIAN
METHOD:PUBLISH
X-WR-CALNAME:Rader Family Farms
X-ORIGINAL-URL:https://raderfamilyfarms.com
X-WR-CALDESC:Events for Rader Family Farms
REFRESH-INTERVAL;VALUE=DURATION:PT1H
X-Robots-Tag:noindex
X-PUBLISHED-TTL:PT1H
BEGIN:VTIMEZONE
TZID:America/Chicago
BEGIN:DAYLIGHT
TZOFFSETFROM:-0600
TZOFFSETTO:-0500
TZNAME:CDT
DTSTART:20230312T080000
END:DAYLIGHT
BEGIN:STANDARD
TZOFFSETFROM:-0500
TZOFFSETTO:-0600
TZNAME:CST
DTSTART:20231105T070000
END:STANDARD
BEGIN:DAYLIGHT
TZOFFSETFROM:-0600
TZOFFSETTO:-0500
TZNAME:CDT
DTSTART:20240310T080000
END:DAYLIGHT
BEGIN:STANDARD
TZOFFSETFROM:-0500
TZOFFSETTO:-0600
TZNAME:CST
DTSTART:20241103T070000
END:STANDARD
BEGIN:DAYLIGHT
TZOFFSETFROM:-0600
TZOFFSETTO:-0500
TZNAME:CDT
DTSTART:20250309T080000
END:DAYLIGHT
BEGIN:STANDARD
TZOFFSETFROM:-0500
TZOFFSETTO:-0600
TZNAME:CST
DTSTART:20251102T070000
END:STANDARD
END:VTIMEZONE
BEGIN:VEVENT
DTSTART;TZID=America/Chicago:20241026T100000
DTEND;TZID=America/Chicago:20241026T180000
DTSTAMP:20260422T140428
CREATED:20230530T174109Z
LAST-MODIFIED:20240522T214329Z
UID:10000615-1729936800-1729965600@raderfamilyfarms.com
SUMMARY:Outdoor Activities Daily Status
DESCRIPTION:
URL:https://raderfamilyfarms.com/event/outdoor-activities/2024-10-26/
LOCATION:Illinois
CATEGORIES:Open
ATTACH;FMTTYPE=image/png:https://raderfamilyfarms.com/wp-content/uploads/2023/05/Outdoor-Activities-Daily-Status.png
END:VEVENT
BEGIN:VEVENT
DTSTART;TZID=America/Chicago:20241026T100000
DTEND;TZID=America/Chicago:20241026T180000
DTSTAMP:20260422T140428
CREATED:20240522T221312Z
LAST-MODIFIED:20240916T220314Z
UID:10000655-1729936800-1729965600@raderfamilyfarms.com
SUMMARY:Apple Blasters Daily Status
DESCRIPTION:
URL:https://raderfamilyfarms.com/event/apple-blasters-daily-status/2024-10-26/
LOCATION:Illinois
CATEGORIES:Open
ATTACH;FMTTYPE=image/png:https://raderfamilyfarms.com/wp-content/uploads/2024/05/Apple-Blasters-Daily-Status.png
END:VEVENT
BEGIN:VEVENT
DTSTART;TZID=America/Chicago:20241026T183000
DTEND;TZID=America/Chicago:20241026T210000
DTSTAMP:20260422T140428
CREATED:20241004T033311Z
LAST-MODIFIED:20241004T033637Z
UID:10000856-1729967400-1729976400@raderfamilyfarms.com
SUMMARY:2024 Texas Roadhouse Night Maze
DESCRIPTION:All maze tickets (including discounted group tickets up to 25) are available here. \nWhat to know about our night mazes at the farm:  \n\nHours are 6:30 to 9 p.m.\, with the last entrance to the maze at 8 p.m.\nAdmission is $10 for ages 5 yrs. and up.  Season passes are not valid for this special event.\nNight maze admission are sold in-person at the farm starting at 6:20 p.m.\nThe Apple Blasters are open but other farm activities are closed\nAreas open: Outdoor access to Harvest Brew Coffee Shop and Sidekick food menus\nAnyone 14 years and younger must be accompanied by a paid adult (age 18 years+) in the corn maze and while on the farm.\nBonfires and S’mores (weather permitting).\nBring a flashlight or headlight\nNo backpacks\, large purses or other containers are allowed in the maze.\nNo smoking (including e-cigarettes and vaping) is permitted on the farm.\n\nOrder your night maze tickets now
URL:https://raderfamilyfarms.com/event/2024-texas-roadhouse-night-maze/
LOCATION:Rader Family Farms\, 1312 Ropp Road\, Normal\, Illinois\, 61761
CATEGORIES:Open
ATTACH;FMTTYPE=image/jpeg:https://raderfamilyfarms.com/wp-content/uploads/2024/01/rffevent_nightmaze.jpg
GEO:40.524176;-89.041358
X-APPLE-STRUCTURED-LOCATION;VALUE=URI;X-ADDRESS=Rader Family Farms 1312 Ropp Road Normal Illinois 61761;X-APPLE-RADIUS=500;X-TITLE=1312 Ropp Road:geo:-89.041358,40.524176
END:VEVENT
END:VCALENDAR