BEGIN:VCALENDAR
VERSION:2.0
PRODID:-//Rader Family Farms - ECPv6.15.20//NONSGML v1.0//EN
CALSCALE:GREGORIAN
METHOD:PUBLISH
X-WR-CALNAME:Rader Family Farms
X-ORIGINAL-URL:https://raderfamilyfarms.com
X-WR-CALDESC:Events for Rader Family Farms
REFRESH-INTERVAL;VALUE=DURATION:PT1H
X-Robots-Tag:noindex
X-PUBLISHED-TTL:PT1H
BEGIN:VTIMEZONE
TZID:America/Chicago
BEGIN:DAYLIGHT
TZOFFSETFROM:-0600
TZOFFSETTO:-0500
TZNAME:CDT
DTSTART:20230312T080000
END:DAYLIGHT
BEGIN:STANDARD
TZOFFSETFROM:-0500
TZOFFSETTO:-0600
TZNAME:CST
DTSTART:20231105T070000
END:STANDARD
BEGIN:DAYLIGHT
TZOFFSETFROM:-0600
TZOFFSETTO:-0500
TZNAME:CDT
DTSTART:20240310T080000
END:DAYLIGHT
BEGIN:STANDARD
TZOFFSETFROM:-0500
TZOFFSETTO:-0600
TZNAME:CST
DTSTART:20241103T070000
END:STANDARD
BEGIN:DAYLIGHT
TZOFFSETFROM:-0600
TZOFFSETTO:-0500
TZNAME:CDT
DTSTART:20250309T080000
END:DAYLIGHT
BEGIN:STANDARD
TZOFFSETFROM:-0500
TZOFFSETTO:-0600
TZNAME:CST
DTSTART:20251102T070000
END:STANDARD
END:VTIMEZONE
BEGIN:VEVENT
DTSTART;TZID=America/Chicago:20240824T100000
DTEND;TZID=America/Chicago:20240824T150000
DTSTAMP:20260422T173314
CREATED:20240529T204749Z
LAST-MODIFIED:20240714T233544Z
UID:10000661-1724493600-1724511600@raderfamilyfarms.com
SUMMARY:The Farmstead Fair pop-up market at Rader Family Farms (Day 1)
DESCRIPTION:Gather your friends and head over to Rader Family Farms for a weekend of shopping and fun! The Farmstead Fair Vendor Market is the perfect opportunity to discover unique\, handcrafted items and enjoy the best vendor event in Central Illinois. \nTake a break from shopping and order your favorite drink at the Harvest Brew Coffee Shop and bakery\, inside the charming Pumpkin Blossom Barn. Whether you’re craving a hot latte or a refreshing iced coffee or our signature apple cider slushy\, we’ve got you covered! \nBring your friends and family for an unforgettable shopping experience at Rader Family Farms. There’s something for everyone. \n                       
URL:https://raderfamilyfarms.com/event/the-farmstead-fair-at-rader-family-farms-day-1/
LOCATION:Rader Family Farms\, 1312 Ropp Road\, Normal\, Illinois\, 61761
CATEGORIES:Open
ATTACH;FMTTYPE=image/jpeg:https://raderfamilyfarms.com/wp-content/uploads/2024/02/rffevent_farmsteadfair.jpg
GEO:40.524176;-89.041358
X-APPLE-STRUCTURED-LOCATION;VALUE=URI;X-ADDRESS=Rader Family Farms 1312 Ropp Road Normal Illinois 61761;X-APPLE-RADIUS=500;X-TITLE=1312 Ropp Road:geo:-89.041358,40.524176
END:VEVENT
END:VCALENDAR