BEGIN:VCALENDAR
VERSION:2.0
PRODID:-//Rader Family Farms - ECPv6.15.20//NONSGML v1.0//EN
CALSCALE:GREGORIAN
METHOD:PUBLISH
X-WR-CALNAME:Rader Family Farms
X-ORIGINAL-URL:https://raderfamilyfarms.com
X-WR-CALDESC:Events for Rader Family Farms
REFRESH-INTERVAL;VALUE=DURATION:PT1H
X-Robots-Tag:noindex
X-PUBLISHED-TTL:PT1H
BEGIN:VTIMEZONE
TZID:America/Chicago
BEGIN:DAYLIGHT
TZOFFSETFROM:-0600
TZOFFSETTO:-0500
TZNAME:CDT
DTSTART:20230312T080000
END:DAYLIGHT
BEGIN:STANDARD
TZOFFSETFROM:-0500
TZOFFSETTO:-0600
TZNAME:CST
DTSTART:20231105T070000
END:STANDARD
BEGIN:DAYLIGHT
TZOFFSETFROM:-0600
TZOFFSETTO:-0500
TZNAME:CDT
DTSTART:20240310T080000
END:DAYLIGHT
BEGIN:STANDARD
TZOFFSETFROM:-0500
TZOFFSETTO:-0600
TZNAME:CST
DTSTART:20241103T070000
END:STANDARD
BEGIN:DAYLIGHT
TZOFFSETFROM:-0600
TZOFFSETTO:-0500
TZNAME:CDT
DTSTART:20250309T080000
END:DAYLIGHT
BEGIN:STANDARD
TZOFFSETFROM:-0500
TZOFFSETTO:-0600
TZNAME:CST
DTSTART:20251102T070000
END:STANDARD
END:VTIMEZONE
BEGIN:VEVENT
DTSTART;TZID=America/Chicago:20240818T110000
DTEND;TZID=America/Chicago:20240818T150000
DTSTAMP:20260422T173312
CREATED:20240814T174234Z
LAST-MODIFIED:20240814T174234Z
UID:10000694-1723978800-1723993200@raderfamilyfarms.com
SUMMARY:Blooms & Brews
DESCRIPTION:Yep\, this is the last day of our Blooms and Brews event.  Our vibrant zinnias are in full bloom and ready for their close-up. With a variety of colors to choose from\, you’re sure to find the perfect match for your feed.  It’s a great opportunity for a family photo as we wrap up the summer. \nWe’re also offering u-pick zinnia blooms\, so you can take home a piece of our beautiful farm with you. Whether you’re looking to brighten up your home or surprise a loved one with a thoughtful gift\, our zinnias are beautiful. \nAnd while you’re here\, be sure to satisfy your sweet tooth with our select bakery items\, signature drinks\, and refreshing slushies.  Don’t forget to check out our new items in the retail market for some unique finds.
URL:https://raderfamilyfarms.com/event/blooms-brews-day-4-of-4/
LOCATION:Rader Family Farms\, 1312 Ropp Road\, Normal\, Illinois\, 61761
CATEGORIES:Open
ATTACH;FMTTYPE=image/jpeg:https://raderfamilyfarms.com/wp-content/uploads/2024/08/RFF-zinnias-in-bloom-1400px.jpg
GEO:40.524176;-89.041358
X-APPLE-STRUCTURED-LOCATION;VALUE=URI;X-ADDRESS=Rader Family Farms 1312 Ropp Road Normal Illinois 61761;X-APPLE-RADIUS=500;X-TITLE=1312 Ropp Road:geo:-89.041358,40.524176
END:VEVENT
END:VCALENDAR