BEGIN:VCALENDAR
VERSION:2.0
PRODID:-//Rader Family Farms - ECPv6.15.20//NONSGML v1.0//EN
CALSCALE:GREGORIAN
METHOD:PUBLISH
X-ORIGINAL-URL:https://raderfamilyfarms.com
X-WR-CALDESC:Events for Rader Family Farms
REFRESH-INTERVAL;VALUE=DURATION:PT1H
X-Robots-Tag:noindex
X-PUBLISHED-TTL:PT1H
BEGIN:VTIMEZONE
TZID:America/Chicago
BEGIN:DAYLIGHT
TZOFFSETFROM:-0600
TZOFFSETTO:-0500
TZNAME:CDT
DTSTART:20230312T080000
END:DAYLIGHT
BEGIN:STANDARD
TZOFFSETFROM:-0500
TZOFFSETTO:-0600
TZNAME:CST
DTSTART:20231105T070000
END:STANDARD
BEGIN:DAYLIGHT
TZOFFSETFROM:-0600
TZOFFSETTO:-0500
TZNAME:CDT
DTSTART:20240310T080000
END:DAYLIGHT
BEGIN:STANDARD
TZOFFSETFROM:-0500
TZOFFSETTO:-0600
TZNAME:CST
DTSTART:20241103T070000
END:STANDARD
BEGIN:DAYLIGHT
TZOFFSETFROM:-0600
TZOFFSETTO:-0500
TZNAME:CDT
DTSTART:20250309T080000
END:DAYLIGHT
BEGIN:STANDARD
TZOFFSETFROM:-0500
TZOFFSETTO:-0600
TZNAME:CST
DTSTART:20251102T070000
END:STANDARD
END:VTIMEZONE
BEGIN:VEVENT
DTSTART;VALUE=DATE:20240916
DTEND;VALUE=DATE:20240917
DTSTAMP:20260423T063420
CREATED:20240916T163021Z
LAST-MODIFIED:20241007T171541Z
UID:10000737-1726444800-1726531199@raderfamilyfarms.com
SUMMARY:The farm is closed on Mondays & Tuesdays
DESCRIPTION:
URL:https://raderfamilyfarms.com/event/the-farm-is-closed-on-mondays-tuesdays/2024-09-16/
LOCATION:Illinois
CATEGORIES:Closed
ATTACH;FMTTYPE=image/png:https://raderfamilyfarms.com/wp-content/uploads/2024/09/rff_closed_today_sign_small.png
END:VEVENT
BEGIN:VEVENT
DTSTART;VALUE=DATE:20240917
DTEND;VALUE=DATE:20240918
DTSTAMP:20260423T063420
CREATED:20240916T163021Z
LAST-MODIFIED:20241007T171541Z
UID:10000738-1726531200-1726617599@raderfamilyfarms.com
SUMMARY:The farm is closed on Mondays & Tuesdays
DESCRIPTION:
URL:https://raderfamilyfarms.com/event/the-farm-is-closed-on-mondays-tuesdays/2024-09-17/
LOCATION:Illinois
CATEGORIES:Closed
ATTACH;FMTTYPE=image/png:https://raderfamilyfarms.com/wp-content/uploads/2024/09/rff_closed_today_sign_small.png
END:VEVENT
BEGIN:VEVENT
DTSTART;TZID=America/Chicago:20240922T100000
DTEND;TZID=America/Chicago:20240922T180000
DTSTAMP:20260423T063420
CREATED:20240922T012815Z
LAST-MODIFIED:20240922T171506Z
UID:10000589-1726999200-1727028000@raderfamilyfarms.com
SUMMARY:Outdoor Activities Daily Status
DESCRIPTION:
URL:https://raderfamilyfarms.com/event/outdoor-activities-3/
LOCATION:Illinois
CATEGORIES:Closed
ATTACH;FMTTYPE=image/png:https://raderfamilyfarms.com/wp-content/uploads/2023/05/Outdoor-Activities-Daily-Status.png
END:VEVENT
BEGIN:VEVENT
DTSTART;TZID=America/Chicago:20240922T100000
DTEND;TZID=America/Chicago:20240922T180000
DTSTAMP:20260423T063420
CREATED:20240922T013111Z
LAST-MODIFIED:20240922T171427Z
UID:10000539-1726999200-1727028000@raderfamilyfarms.com
SUMMARY:Corn Maze Daily Status
DESCRIPTION:
URL:https://raderfamilyfarms.com/event/corn-maze-daily-2/
LOCATION:Illinois
CATEGORIES:Closed
ATTACH;FMTTYPE=image/png:https://raderfamilyfarms.com/wp-content/uploads/2023/05/corn-maze-calendar-status.png
END:VEVENT
BEGIN:VEVENT
DTSTART;TZID=America/Chicago:20240922T100000
DTEND;TZID=America/Chicago:20240922T180000
DTSTAMP:20260423T063420
CREATED:20240922T013234Z
LAST-MODIFIED:20240922T171445Z
UID:10000629-1726999200-1727028000@raderfamilyfarms.com
SUMMARY:Apple Blasters Daily Status
DESCRIPTION:
URL:https://raderfamilyfarms.com/event/apple-blasters-daily-status-2/
LOCATION:Illinois
CATEGORIES:Closed
ATTACH;FMTTYPE=image/png:https://raderfamilyfarms.com/wp-content/uploads/2024/05/Apple-Blasters-Daily-Status.png
END:VEVENT
END:VCALENDAR