BEGIN:VCALENDAR
VERSION:2.0
PRODID:-//Rader Family Farms - ECPv6.15.20//NONSGML v1.0//EN
CALSCALE:GREGORIAN
METHOD:PUBLISH
X-ORIGINAL-URL:https://raderfamilyfarms.com
X-WR-CALDESC:Events for Rader Family Farms
REFRESH-INTERVAL;VALUE=DURATION:PT1H
X-Robots-Tag:noindex
X-PUBLISHED-TTL:PT1H
BEGIN:VTIMEZONE
TZID:America/Chicago
BEGIN:DAYLIGHT
TZOFFSETFROM:-0600
TZOFFSETTO:-0500
TZNAME:CDT
DTSTART:20230312T080000
END:DAYLIGHT
BEGIN:STANDARD
TZOFFSETFROM:-0500
TZOFFSETTO:-0600
TZNAME:CST
DTSTART:20231105T070000
END:STANDARD
BEGIN:DAYLIGHT
TZOFFSETFROM:-0600
TZOFFSETTO:-0500
TZNAME:CDT
DTSTART:20240310T080000
END:DAYLIGHT
BEGIN:STANDARD
TZOFFSETFROM:-0500
TZOFFSETTO:-0600
TZNAME:CST
DTSTART:20241103T070000
END:STANDARD
BEGIN:DAYLIGHT
TZOFFSETFROM:-0600
TZOFFSETTO:-0500
TZNAME:CDT
DTSTART:20250309T080000
END:DAYLIGHT
BEGIN:STANDARD
TZOFFSETFROM:-0500
TZOFFSETTO:-0600
TZNAME:CST
DTSTART:20251102T070000
END:STANDARD
END:VTIMEZONE
BEGIN:VEVENT
DTSTART;VALUE=DATE:20241001
DTEND;VALUE=DATE:20241002
DTSTAMP:20260422T202549
CREATED:20240916T163021Z
LAST-MODIFIED:20241007T171541Z
UID:10000742-1727740800-1727827199@raderfamilyfarms.com
SUMMARY:The farm is closed on Mondays & Tuesdays
DESCRIPTION:
URL:https://raderfamilyfarms.com/event/the-farm-is-closed-on-mondays-tuesdays/2024-10-01/
LOCATION:Illinois
CATEGORIES:Closed
ATTACH;FMTTYPE=image/png:https://raderfamilyfarms.com/wp-content/uploads/2024/09/rff_closed_today_sign_small.png
END:VEVENT
BEGIN:VEVENT
DTSTART;TZID=America/Chicago:20241004T100000
DTEND;TZID=America/Chicago:20241004T140000
DTSTAMP:20260422T202549
CREATED:20241004T131403Z
LAST-MODIFIED:20241004T131709Z
UID:10000549-1728036000-1728050400@raderfamilyfarms.com
SUMMARY:Corn Maze Daily Status
DESCRIPTION:
URL:https://raderfamilyfarms.com/event/corn-maze-daily-3/
LOCATION:Illinois
CATEGORIES:Closed
ATTACH;FMTTYPE=image/png:https://raderfamilyfarms.com/wp-content/uploads/2023/05/corn-maze-calendar-status.png
END:VEVENT
BEGIN:VEVENT
DTSTART;VALUE=DATE:20241007
DTEND;VALUE=DATE:20241008
DTSTAMP:20260422T202549
CREATED:20240916T163021Z
LAST-MODIFIED:20241007T171541Z
UID:10000743-1728259200-1728345599@raderfamilyfarms.com
SUMMARY:The farm is closed on Mondays & Tuesdays
DESCRIPTION:
URL:https://raderfamilyfarms.com/event/the-farm-is-closed-on-mondays-tuesdays/2024-10-07/
LOCATION:Illinois
CATEGORIES:Closed
ATTACH;FMTTYPE=image/png:https://raderfamilyfarms.com/wp-content/uploads/2024/09/rff_closed_today_sign_small.png
END:VEVENT
BEGIN:VEVENT
DTSTART;VALUE=DATE:20241008
DTEND;VALUE=DATE:20241009
DTSTAMP:20260422T202549
CREATED:20240916T163021Z
LAST-MODIFIED:20241007T171541Z
UID:10000744-1728345600-1728431999@raderfamilyfarms.com
SUMMARY:The farm is closed on Mondays & Tuesdays
DESCRIPTION:
URL:https://raderfamilyfarms.com/event/the-farm-is-closed-on-mondays-tuesdays/2024-10-08/
LOCATION:Illinois
CATEGORIES:Closed
ATTACH;FMTTYPE=image/png:https://raderfamilyfarms.com/wp-content/uploads/2024/09/rff_closed_today_sign_small.png
END:VEVENT
BEGIN:VEVENT
DTSTART;TZID=America/Chicago:20241010T100000
DTEND;TZID=America/Chicago:20241010T180000
DTSTAMP:20260422T202549
CREATED:20241010T022058Z
LAST-MODIFIED:20241010T022059Z
UID:10000642-1728554400-1728583200@raderfamilyfarms.com
SUMMARY:Apple Blasters Daily Status
DESCRIPTION:
URL:https://raderfamilyfarms.com/event/apple-blasters-daily-status-3/
LOCATION:Illinois
CATEGORIES:Closed
ATTACH;FMTTYPE=image/png:https://raderfamilyfarms.com/wp-content/uploads/2024/05/Apple-Blasters-Daily-Status.png
END:VEVENT
BEGIN:VEVENT
DTSTART;TZID=America/Chicago:20241011T100000
DTEND;TZID=America/Chicago:20241011T180000
DTSTAMP:20260422T202549
CREATED:20241010T022358Z
LAST-MODIFIED:20241010T022412Z
UID:10000643-1728640800-1728669600@raderfamilyfarms.com
SUMMARY:Apple Blasters Daily Status
DESCRIPTION:
URL:https://raderfamilyfarms.com/event/apple-blasters-daily-status-4/
LOCATION:Illinois
CATEGORIES:Closed
ATTACH;FMTTYPE=image/png:https://raderfamilyfarms.com/wp-content/uploads/2024/05/Apple-Blasters-Daily-Status.png
END:VEVENT
BEGIN:VEVENT
DTSTART;VALUE=DATE:20241015
DTEND;VALUE=DATE:20241016
DTSTAMP:20260422T202549
CREATED:20240916T163021Z
LAST-MODIFIED:20241007T171541Z
UID:10000746-1728950400-1729036799@raderfamilyfarms.com
SUMMARY:The farm is closed on Mondays & Tuesdays
DESCRIPTION:
URL:https://raderfamilyfarms.com/event/the-farm-is-closed-on-mondays-tuesdays/2024-10-15/
LOCATION:Illinois
CATEGORIES:Closed
ATTACH;FMTTYPE=image/png:https://raderfamilyfarms.com/wp-content/uploads/2024/09/rff_closed_today_sign_small.png
END:VEVENT
BEGIN:VEVENT
DTSTART;TZID=America/Chicago:20241016T100000
DTEND;TZID=America/Chicago:20241016T180000
DTSTAMP:20260422T202549
CREATED:20241010T023331Z
LAST-MODIFIED:20241010T023331Z
UID:10000647-1729072800-1729101600@raderfamilyfarms.com
SUMMARY:Apple Blasters Daily Status
DESCRIPTION:
URL:https://raderfamilyfarms.com/event/apple-blasters-daily-status-5/
LOCATION:Illinois
CATEGORIES:Closed
ATTACH;FMTTYPE=image/png:https://raderfamilyfarms.com/wp-content/uploads/2024/05/Apple-Blasters-Daily-Status.png
END:VEVENT
BEGIN:VEVENT
DTSTART;TZID=America/Chicago:20241017T100000
DTEND;TZID=America/Chicago:20241017T180000
DTSTAMP:20260422T202549
CREATED:20241010T023400Z
LAST-MODIFIED:20241010T023400Z
UID:10000648-1729159200-1729188000@raderfamilyfarms.com
SUMMARY:Apple Blasters Daily Status
DESCRIPTION:
URL:https://raderfamilyfarms.com/event/apple-blasters-daily-status-6/
LOCATION:Illinois
CATEGORIES:Closed
ATTACH;FMTTYPE=image/png:https://raderfamilyfarms.com/wp-content/uploads/2024/05/Apple-Blasters-Daily-Status.png
END:VEVENT
BEGIN:VEVENT
DTSTART;TZID=America/Chicago:20241018T100000
DTEND;TZID=America/Chicago:20241018T180000
DTSTAMP:20260422T202549
CREATED:20241010T023432Z
LAST-MODIFIED:20241010T023432Z
UID:10000649-1729245600-1729274400@raderfamilyfarms.com
SUMMARY:Apple Blasters Daily Status
DESCRIPTION:
URL:https://raderfamilyfarms.com/event/apple-blasters-daily-status-7/
LOCATION:Illinois
CATEGORIES:Closed
ATTACH;FMTTYPE=image/png:https://raderfamilyfarms.com/wp-content/uploads/2024/05/Apple-Blasters-Daily-Status.png
END:VEVENT
BEGIN:VEVENT
DTSTART;VALUE=DATE:20241021
DTEND;VALUE=DATE:20241022
DTSTAMP:20260422T202549
CREATED:20240916T163021Z
LAST-MODIFIED:20241007T171541Z
UID:10000747-1729468800-1729555199@raderfamilyfarms.com
SUMMARY:The farm is closed on Mondays & Tuesdays
DESCRIPTION:
URL:https://raderfamilyfarms.com/event/the-farm-is-closed-on-mondays-tuesdays/2024-10-21/
LOCATION:Illinois
CATEGORIES:Closed
ATTACH;FMTTYPE=image/png:https://raderfamilyfarms.com/wp-content/uploads/2024/09/rff_closed_today_sign_small.png
END:VEVENT
BEGIN:VEVENT
DTSTART;VALUE=DATE:20241022
DTEND;VALUE=DATE:20241023
DTSTAMP:20260422T202549
CREATED:20240916T163021Z
LAST-MODIFIED:20241007T171541Z
UID:10000748-1729555200-1729641599@raderfamilyfarms.com
SUMMARY:The farm is closed on Mondays & Tuesdays
DESCRIPTION:
URL:https://raderfamilyfarms.com/event/the-farm-is-closed-on-mondays-tuesdays/2024-10-22/
LOCATION:Illinois
CATEGORIES:Closed
ATTACH;FMTTYPE=image/png:https://raderfamilyfarms.com/wp-content/uploads/2024/09/rff_closed_today_sign_small.png
END:VEVENT
BEGIN:VEVENT
DTSTART;TZID=America/Chicago:20241023T100000
DTEND;TZID=America/Chicago:20241023T180000
DTSTAMP:20260422T202549
CREATED:20241010T023459Z
LAST-MODIFIED:20241010T023500Z
UID:10000652-1729677600-1729706400@raderfamilyfarms.com
SUMMARY:Apple Blasters Daily Status
DESCRIPTION:
URL:https://raderfamilyfarms.com/event/apple-blasters-daily-status-8/
LOCATION:Illinois
CATEGORIES:Closed
ATTACH;FMTTYPE=image/png:https://raderfamilyfarms.com/wp-content/uploads/2024/05/Apple-Blasters-Daily-Status.png
END:VEVENT
BEGIN:VEVENT
DTSTART;TZID=America/Chicago:20241024T100000
DTEND;TZID=America/Chicago:20241024T180000
DTSTAMP:20260422T202549
CREATED:20241010T023522Z
LAST-MODIFIED:20241010T023523Z
UID:10000653-1729764000-1729792800@raderfamilyfarms.com
SUMMARY:Apple Blasters Daily Status
DESCRIPTION:
URL:https://raderfamilyfarms.com/event/apple-blasters-daily-status-9/
LOCATION:Illinois
CATEGORIES:Closed
ATTACH;FMTTYPE=image/png:https://raderfamilyfarms.com/wp-content/uploads/2024/05/Apple-Blasters-Daily-Status.png
END:VEVENT
BEGIN:VEVENT
DTSTART;TZID=America/Chicago:20241025T100000
DTEND;TZID=America/Chicago:20241025T180000
DTSTAMP:20260422T202549
CREATED:20241010T023623Z
LAST-MODIFIED:20241010T023623Z
UID:10000654-1729850400-1729879200@raderfamilyfarms.com
SUMMARY:Apple Blasters Daily Status
DESCRIPTION:
URL:https://raderfamilyfarms.com/event/apple-blasters-daily-status-10/
LOCATION:Illinois
CATEGORIES:Closed
ATTACH;FMTTYPE=image/png:https://raderfamilyfarms.com/wp-content/uploads/2024/05/Apple-Blasters-Daily-Status.png
END:VEVENT
BEGIN:VEVENT
DTSTART;VALUE=DATE:20241028
DTEND;VALUE=DATE:20241029
DTSTAMP:20260422T202549
CREATED:20240916T163021Z
LAST-MODIFIED:20241007T171541Z
UID:10000749-1730073600-1730159999@raderfamilyfarms.com
SUMMARY:The farm is closed on Mondays & Tuesdays
DESCRIPTION:
URL:https://raderfamilyfarms.com/event/the-farm-is-closed-on-mondays-tuesdays/2024-10-28/
LOCATION:Illinois
CATEGORIES:Closed
ATTACH;FMTTYPE=image/png:https://raderfamilyfarms.com/wp-content/uploads/2024/09/rff_closed_today_sign_small.png
END:VEVENT
BEGIN:VEVENT
DTSTART;VALUE=DATE:20241029
DTEND;VALUE=DATE:20241030
DTSTAMP:20260422T202549
CREATED:20240916T163021Z
LAST-MODIFIED:20241007T171541Z
UID:10000750-1730160000-1730246399@raderfamilyfarms.com
SUMMARY:The farm is closed on Mondays & Tuesdays
DESCRIPTION:
URL:https://raderfamilyfarms.com/event/the-farm-is-closed-on-mondays-tuesdays/2024-10-29/
LOCATION:Illinois
CATEGORIES:Closed
ATTACH;FMTTYPE=image/png:https://raderfamilyfarms.com/wp-content/uploads/2024/09/rff_closed_today_sign_small.png
END:VEVENT
END:VCALENDAR